BEGIN:VCALENDAR
VERSION:2.0
PRODID:icalendar-ruby
CALSCALE:GREGORIAN
METHOD:PUBLISH
BEGIN:VEVENT
DTSTAMP:20260423T143831Z
UID:property?property_id=1764754
DTSTART:20260516T110000
DTEND:20260516T113000
CLASS:PUBLIC
CREATED:20260422T164015
DESCRIPTION: 
LAST-MODIFIED:20260422T172255
LOCATION:49 Ford Street\, NEWPORT VIC 3015\, Australia
SUMMARY:49 Ford Street\,  Auction
URL;VALUE=URI:property?property_id=1764754
END:VEVENT
END:VCALENDAR
