BEGIN:VCALENDAR
VERSION:2.0
PRODID:icalendar-ruby
CALSCALE:GREGORIAN
METHOD:PUBLISH
BEGIN:VEVENT
DTSTAMP:20260423T142820Z
UID:property?property_id=1764913
DTSTART:20260516T113000
DTEND:20260516T120000
CLASS:PUBLIC
CREATED:20260423T091036
DESCRIPTION: 
LAST-MODIFIED:20260423T170030
LOCATION:21 Arras Street\, SPOTSWOOD VIC 3015\, Australia
SUMMARY:21 Arras Street\,  Auction
URL;VALUE=URI:property?property_id=1764913
END:VEVENT
END:VCALENDAR
